BEGIN:VCALENDAR
VERSION:2.0
PRODID:-//217.160.0.5//NONSGML kigkonsult.se iCalcreator 2.20//
CALSCALE:GREGORIAN
METHOD:PUBLISH
X-WR-TIMEZONE:Europe/Berlin
BEGIN:VEVENT
UID:event1067@Kolpingsfamilie Halingen
DTSTAMP:20260424T091423Z
CATEGORIES:Kolpingsfamilie Halingen
DESCRIPTION:ALTPAPIER Bringsammlung\nKategorie: Kolpingsfamilie Halingen\nI
 CS-Link: https://www.kolping-halingen.eu/index.php?option=com_jem&view=eve
 nt&id=1067:altpapier-bringsammlung\n
DTSTART;TZID=Europe/Berlin:20260711T080000
DTEND;TZID=Europe/Berlin:20260711T140000
LOCATION:Parkplatz Halinger Hof\,Menden-Halingen
SUMMARY:ALTPAPIER Bringsammlung
URL:https://www.kolping-halingen.eu/index.php?option=com_jem&view=event&id=
 1067:altpapier-bringsammlung
END:VEVENT
END:VCALENDAR