BEGIN:VCALENDAR
VERSION:2.0
PRODID:-//217.160.0.5//NONSGML kigkonsult.se iCalcreator 2.20//
CALSCALE:GREGORIAN
METHOD:PUBLISH
X-WR-TIMEZONE:Europe/Berlin
BEGIN:VEVENT
UID:event1066@Kolpingsfamilie Halingen
DTSTAMP:20260424T090328Z
CATEGORIES:Kolpingjungend Halingen
DESCRIPTION:Gemeinsames Zeltlager der Kolpingjugend Halingen und der KJG Bö
 sperde \nKategorie: Kolpingjungend Halingen\nICS-Link: https://www.kolping
 -halingen.eu/index.php?option=com_jem&view=event&id=1066:zeltlager-der-kol
 pingjugend\n
DTSTART;VALUE=DATE:20260720
DTEND;VALUE=DATE:20260731
SUMMARY:Gemeinsames Zeltlager der Kolpingjugend Halingen und der KJG Bösper
 de 
URL:https://www.kolping-halingen.eu/index.php?option=com_jem&view=event&id=
 1066:zeltlager-der-kolpingjugend
END:VEVENT
END:VCALENDAR