BEGIN:VCALENDAR
VERSION:2.0
PRODID:-//217.160.0.5//NONSGML kigkonsult.se iCalcreator 2.20//
CALSCALE:GREGORIAN
METHOD:PUBLISH
X-WR-TIMEZONE:Europe/Berlin
BEGIN:VEVENT
UID:event1065@Kolpingsfamilie Halingen
DTSTAMP:20260422T121512Z
CATEGORIES:Kolpingjungend Halingen
DESCRIPTION:Grillen\, Cocktails und chillen \nKategorie: Kolpingjungend Hal
 ingen\nICS-Link: https://www.kolping-halingen.eu/index.php?option=com_jem&
 view=event&id=1065:grillen\,-cocktails-und-chillen\n
DTSTART;TZID=Europe/Berlin:20260710T183000
DTEND;TZID=Europe/Berlin:20260710T183000
LOCATION:Bitte Sonderankündigungen beachten
SUMMARY:Grillen\, Cocktails und chillen 
URL:https://www.kolping-halingen.eu/index.php?option=com_jem&view=event&id=
 1065:grillen,-cocktails-und-chillen
END:VEVENT
END:VCALENDAR