BEGIN:VCALENDAR
VERSION:2.0
PRODID:-//217.160.0.5//NONSGML kigkonsult.se iCalcreator 2.20//
CALSCALE:GREGORIAN
METHOD:PUBLISH
X-WR-TIMEZONE:Europe/Berlin
BEGIN:VEVENT
UID:event1064@Kolpingsfamilie Halingen
DTSTAMP:20260424T090327Z
CATEGORIES:Kolping Bezirksverband Menden-Fröndenberg 
DESCRIPTION:'Mit Dir! Pilgern nach Werl 2026' \nKategorie: Kolping Bezirksv
 erband Menden-Fröndenberg \nICS-Link: https://www.kolping-halingen.eu/inde
 x.php?option=com_jem&view=event&id=1064:mit-dir-pilgern-nach-werl-2026\n
DTSTART;VALUE=DATE:20260621
DTEND;VALUE=DATE:20260622
LOCATION:Bitte Sonderankündigungen beachten
SUMMARY:'Mit Dir! Pilgern nach Werl 2026' 
URL:https://www.kolping-halingen.eu/index.php?option=com_jem&view=event&id=
 1064:mit-dir-pilgern-nach-werl-2026
END:VEVENT
END:VCALENDAR