BEGIN:VCALENDAR
VERSION:2.0
PRODID:-//217.160.0.5//NONSGML kigkonsult.se iCalcreator 2.20//
CALSCALE:GREGORIAN
METHOD:PUBLISH
X-WR-TIMEZONE:Europe/Berlin
BEGIN:VEVENT
UID:event1063@Kolpingsfamilie Halingen
DTSTAMP:20260422T121420Z
CATEGORIES:Kolpingsfamilie Halingen
DESCRIPTION:Fahrradtour rund um Halingen\nKategorie: Kolpingsfamilie Haling
 en\nICS-Link: https://www.kolping-halingen.eu/index.php?option=com_jem&vie
 w=event&id=1063:fahrradtour-rund-um-halingen\n
DTSTART;TZID=Europe/Berlin:20260609T180000
DTEND;TZID=Europe/Berlin:20260609T180000
LOCATION:Pfarrheim\,Halinger Dorfstrasse 15\,58708 Menden-Halingen
SUMMARY:Fahrradtour rund um Halingen
URL:https://www.kolping-halingen.eu/index.php?option=com_jem&view=event&id=
 1063:fahrradtour-rund-um-halingen
END:VEVENT
END:VCALENDAR