BEGIN:VCALENDAR
VERSION:2.0
PRODID:-//217.160.0.5//NONSGML kigkonsult.se iCalcreator 2.20//
CALSCALE:GREGORIAN
METHOD:PUBLISH
X-WR-TIMEZONE:Europe/Berlin
BEGIN:VEVENT
UID:event1057@Kolpingsfamilie Halingen
DTSTAMP:20260423T104158Z
CATEGORIES:Kolpingsfamilie Halingen
DESCRIPTION:Vorstandssitzung\nKategorie: Kolpingsfamilie Halingen\nICS-Link
 : https://www.kolping-halingen.eu/index.php?option=com_jem&view=event&id=1
 057:vorstandssitzung\n
DTSTART;TZID=Europe/Berlin:20260602T200000
DTEND;TZID=Europe/Berlin:20260602T200000
LOCATION:Pfarrheim\,Halinger Dorfstrasse 15\,58708 Menden-Halingen
SUMMARY:Vorstandssitzung
URL:https://www.kolping-halingen.eu/index.php?option=com_jem&view=event&id=
 1057:vorstandssitzung
END:VEVENT
END:VCALENDAR